BEGIN:VCALENDAR
VERSION:2.0
PRODID:-//Congregation of the Resurrection - ECPv6.2.6.1//NONSGML v1.0//EN
CALSCALE:GREGORIAN
METHOD:PUBLISH
X-ORIGINAL-URL:https://resurrectionists.ca
X-WR-CALDESC:Events for Congregation of the Resurrection
REFRESH-INTERVAL;VALUE=DURATION:PT1H
X-Robots-Tag:noindex
X-PUBLISHED-TTL:PT1H
BEGIN:VTIMEZONE
TZID:America/Toronto
BEGIN:DAYLIGHT
TZOFFSETFROM:-0500
TZOFFSETTO:-0400
TZNAME:EDT
DTSTART:20260308T070000
END:DAYLIGHT
BEGIN:STANDARD
TZOFFSETFROM:-0400
TZOFFSETTO:-0500
TZNAME:EST
DTSTART:20261101T060000
END:STANDARD
END:VTIMEZONE
BEGIN:VEVENT
DTSTART;VALUE=DATE:20260506
DTEND;VALUE=DATE:20260507
DTSTAMP:20260419T090157
CREATED:20230111T182143Z
LAST-MODIFIED:20230111T182143Z
UID:6265-1778025600-1778111999@resurrectionists.ca
SUMMARY:St. Francois De Laval
DESCRIPTION:FOCAL POINT: \n“If we follow Her [Mary] as our model\, we learn to share in the passion\, death and resurrection of Her Son and we too will be freed from sin and will share in His new life in the Spirit.” (Con. 8) \n  \nDeceased:\nNovice Wladyslaw Zachuta\, 1886\, Krakow\, Poland \n  \nBirthday:\nFr. Adam Wroblewicz\, 1957\, Poland \n  \nOrdinations:\nFr. Lucjan Bartkowiak\, 2000\, Poland\nFr. Bartlomiej Gzella\, 2000\, Poland\nFr. Wieslaw Hnatejko\, 2000\, Poland\nFr. Arkadiusz Kita\, 2000\, Poland\nFr. Wojciech P. Pelka\, 2000\, Poland\nFr. Andrzej Sosnowski\, 2000\, Poland\nFr. Grzegorz Sosnowski\, 2000\, Poland\nFr. Artur Traczewski\, 2000\, Poland\nFr. Wojciech Faron\, 2006\, Poland\nFr. Sebastian Habowski\, 2006\, Poland \n  \n\nFor our Congregation\, our superiors\, and for vocations.\nFor those who have asked us to pray for them.\nThat the patron of the Bishops of Canada\, St. Francois De Laval\, will continue to inspire the bishops as they shepherd the people of Canada.\n\n  \nFURTHER REFLECTION: \n“The importance of common life in the charism and mission of the Congregation should be given serious consideration by the provincial and regional superiors in determining whether a new apostolate absolutely requires a religious to live alone.” (A Vision of Hope\, 11)
URL:https://resurrectionists.ca/prayer-calendar/st-francois-de-laval/
END:VEVENT
END:VCALENDAR