BEGIN:VCALENDAR
VERSION:2.0
PRODID:-//Congregation of the Resurrection - ECPv6.2.6.1//NONSGML v1.0//EN
CALSCALE:GREGORIAN
METHOD:PUBLISH
X-WR-CALNAME:Congregation of the Resurrection
X-ORIGINAL-URL:https://resurrectionists.ca
X-WR-CALDESC:Events for Congregation of the Resurrection
REFRESH-INTERVAL;VALUE=DURATION:PT1H
X-Robots-Tag:noindex
X-PUBLISHED-TTL:PT1H
BEGIN:VTIMEZONE
TZID:America/Toronto
BEGIN:DAYLIGHT
TZOFFSETFROM:-0500
TZOFFSETTO:-0400
TZNAME:EDT
DTSTART:20260308T070000
END:DAYLIGHT
BEGIN:STANDARD
TZOFFSETFROM:-0400
TZOFFSETTO:-0500
TZNAME:EST
DTSTART:20261101T060000
END:STANDARD
END:VTIMEZONE
BEGIN:VEVENT
DTSTART;VALUE=DATE:20260507
DTEND;VALUE=DATE:20260508
DTSTAMP:20260419T104125
CREATED:20230111T182416Z
LAST-MODIFIED:20230111T182416Z
UID:6268-1778112000-1778198399@resurrectionists.ca
SUMMARY:Fifth Sunday of Easter
DESCRIPTION:FOCAL POINT: \n“Mary’s life of prayer is a model for our life of prayer. She teaches us how to hear God’s word\, ponder it in our hearts and act upon it.” (Con. 55) \n  \nDeceased:\nFr. Walerian Przewlocki\, 1895\, Rome\, Italy \n  \nBirthday:\nFr. Slawomir Siemieniec\, 1965\, Brazil \n  \n\nFor the conversion of sinners\, and for all in affliction\, temptation and agony.\nFor vocations to the Congregation of the Resurrection.\nFor those who were our formation directors\, living and deceased.\n\n  \nFURTHER REFLECTION: \n“We direct that the Provincial/Regional Superior directly encourage and challenge the membership to take leadership in their respective ministry to foster religious vocations and to support the efforts of the vocation director.” (A Vision of Hope\, 12) \n 
URL:https://resurrectionists.ca/prayer-calendar/fifth-sunday-of-easter/
END:VEVENT
END:VCALENDAR