BEGIN:VCALENDAR
VERSION:2.0
PRODID:-//Congregation of the Resurrection - ECPv6.2.6.1//NONSGML v1.0//EN
CALSCALE:GREGORIAN
METHOD:PUBLISH
X-WR-CALNAME:Congregation of the Resurrection
X-ORIGINAL-URL:https://resurrectionists.ca
X-WR-CALDESC:Events for Congregation of the Resurrection
REFRESH-INTERVAL;VALUE=DURATION:PT1H
X-Robots-Tag:noindex
X-PUBLISHED-TTL:PT1H
BEGIN:VTIMEZONE
TZID:America/Toronto
BEGIN:DAYLIGHT
TZOFFSETFROM:-0500
TZOFFSETTO:-0400
TZNAME:EDT
DTSTART:20260308T070000
END:DAYLIGHT
BEGIN:STANDARD
TZOFFSETFROM:-0400
TZOFFSETTO:-0500
TZNAME:EST
DTSTART:20261101T060000
END:STANDARD
END:VTIMEZONE
BEGIN:VEVENT
DTSTART;VALUE=DATE:20260510
DTEND;VALUE=DATE:20260511
DTSTAMP:20260419T153023
CREATED:20230111T182824Z
LAST-MODIFIED:20230111T182824Z
UID:6277-1778371200-1778457599@resurrectionists.ca
SUMMARY:St. John of Avila
DESCRIPTION:FOCAL POINT:\n“Our religious will become more perfect disciples of Jesus if they follow Mary\, rely on Mary and tend to Christ through Mary.” (Con. 152) \n  \nOrdinations:\nFr. Sutherland MacDonald\, 1969\, Canada\nFr. Bernard Hylla\, 1986\, Poland\nFr\, Maciej Braun\, 2003\, Poland\nFr. Jan Kanty Kaczmarek\, 2003\, Poland\nFr. Stanislaw Szklarczyk\, 2003\, Poland \n  \n\nFor faithfulness to our vows\, and for the spirit of Resurrection.\nThat through the intercession of St. John of Avila we may strive for greater theological scholarship.\nFor our members in the missions.\n\n  \nFURTHER REFLECTION: \n“… attitudes with which to carry out our apostolates. Two of these are a desire to reach those in the fringes of the Church and a desire to practice our apostolates in a manner which will prompt others to consider them as a model to follow.” (Resurrectionist Formation\, 181) \n 
URL:https://resurrectionists.ca/prayer-calendar/st-john-of-avila/
END:VEVENT
END:VCALENDAR