BEGIN:VCALENDAR
VERSION:2.0
PRODID:-//Congregation of the Resurrection - ECPv6.2.6.1//NONSGML v1.0//EN
CALSCALE:GREGORIAN
METHOD:PUBLISH
X-WR-CALNAME:Congregation of the Resurrection
X-ORIGINAL-URL:https://resurrectionists.ca
X-WR-CALDESC:Events for Congregation of the Resurrection
REFRESH-INTERVAL;VALUE=DURATION:PT1H
X-Robots-Tag:noindex
X-PUBLISHED-TTL:PT1H
BEGIN:VTIMEZONE
TZID:America/Toronto
BEGIN:DAYLIGHT
TZOFFSETFROM:-0500
TZOFFSETTO:-0400
TZNAME:EDT
DTSTART:20260308T070000
END:DAYLIGHT
BEGIN:STANDARD
TZOFFSETFROM:-0400
TZOFFSETTO:-0500
TZNAME:EST
DTSTART:20261101T060000
END:STANDARD
END:VTIMEZONE
BEGIN:VEVENT
DTSTART;VALUE=DATE:20260511
DTEND;VALUE=DATE:20260512
DTSTAMP:20260419T171404
CREATED:20230111T183314Z
LAST-MODIFIED:20230111T183314Z
UID:6279-1778457600-1778543999@resurrectionists.ca
SUMMARY:May 11
DESCRIPTION:FOCAL POINT: \n“Parishes will foster devotion to Mary\, the Mother of the Church. … Her aid and intercession are important if the apostolic activities of the Congregation are to be fruitful.” (Con. 219) \n  \nDeceased:\nFr. Leon Lisiecki\,1981\, Poznan\, Poland \n  \nBirthday:\nFr. Damian Korcz\, 1975\, Poland \n  \nFirst Vows:\nFr. Donald Suberlak\, 1959\, USA \n  \nOrdinations:\nFr. Jan Dziechciar\, 1991\, Poland\nFr. Artur Kardas\, 1991\, Poland\nFr. Jacek Praski\, 1991\, Poland\nFr. Daniel Lobsinger\, 1996\, Canada \n  \n\nFor fidelity to our charism and the spirit of our Founders.\nFor those in our Congregation who are struggling with their faith.\nFor the gift of wisdom for our superiors.\n\n  \nFURTHER REFLECTION: \n“The laity are not only invited to share in our Resurrectionist apostolate but that we Resurrectionists are called to assist the laity in identifying and carrying out their own proper mission.” (Witnesses to the Resurrection\, 12)
URL:https://resurrectionists.ca/prayer-calendar/may-11/
END:VEVENT
END:VCALENDAR