BEGIN:VCALENDAR
VERSION:2.0
PRODID:-//Congregation of the Resurrection - ECPv6.2.6.1//NONSGML v1.0//EN
CALSCALE:GREGORIAN
METHOD:PUBLISH
X-WR-CALNAME:Congregation of the Resurrection
X-ORIGINAL-URL:https://resurrectionists.ca
X-WR-CALDESC:Events for Congregation of the Resurrection
REFRESH-INTERVAL;VALUE=DURATION:PT1H
X-Robots-Tag:noindex
X-PUBLISHED-TTL:PT1H
BEGIN:VTIMEZONE
TZID:America/Toronto
BEGIN:DAYLIGHT
TZOFFSETFROM:-0500
TZOFFSETTO:-0400
TZNAME:EDT
DTSTART:20260308T070000
END:DAYLIGHT
BEGIN:STANDARD
TZOFFSETFROM:-0400
TZOFFSETTO:-0500
TZNAME:EST
DTSTART:20261101T060000
END:STANDARD
END:VTIMEZONE
BEGIN:VEVENT
DTSTART;VALUE=DATE:20260512
DTEND;VALUE=DATE:20260513
DTSTAMP:20260419T185234
CREATED:20230111T183608Z
LAST-MODIFIED:20230111T183608Z
UID:6282-1778544000-1778630399@resurrectionists.ca
SUMMARY:Canada Health Day
DESCRIPTION:FOCAL POINT: \n“Mary continues to be active in the outpouring of the Spirit upon the Church\, upon the Congregation and upon the people to whom the religious minister.” (Con. 219) \n  \nDeceased:\nBr. Jozef Warzybok\, 1930\, Lwow\, Poland\nFr. Francis Kubiaczyk\, 1933\, Chicago\, USA\nFr. Anthony Gozdziak 1972\, Montgomery\, USA\nFr. Henryk Bancerowski\, 2019\, Krakow\, Poland \n  \nOrdinations:\nFr. Adam P. Blyszcz 1994\, Poland\nFr. Stanislaw Jankowski\, 1994\, Poland\nFr. Lech Nowinski\, 1994\, Poland\nFr. Krzysztof Swol\, 1994\, Poland\nFr. Dariusz Tabor\, 1994\, Poland\nFr. Stanislaw Zaryczny\, 1994\, Poland\nFr. Tomasz Rostek\, 2012\, Poland \n  \n\nFor the church and our Holy Father.\nLet us remember on this Canada Health Day that health and healing are essential aspects of our baptismal vocation.\nFor all who have died in the Risen Lord.\n\n  \nFURTHER REFLECTION: \n“Human beings come into existence apart from any decisions or power on their part. Human existence is a deliberate wish of God.” (Resurrectionist Formation\, 45) \n 
URL:https://resurrectionists.ca/prayer-calendar/canada-health-day/
END:VEVENT
END:VCALENDAR