BEGIN:VCALENDAR
VERSION:2.0
PRODID:-//Congregation of the Resurrection - ECPv6.2.6.1//NONSGML v1.0//EN
CALSCALE:GREGORIAN
METHOD:PUBLISH
X-ORIGINAL-URL:https://resurrectionists.ca
X-WR-CALDESC:Events for Congregation of the Resurrection
REFRESH-INTERVAL;VALUE=DURATION:PT1H
X-Robots-Tag:noindex
X-PUBLISHED-TTL:PT1H
BEGIN:VTIMEZONE
TZID:America/Toronto
BEGIN:DAYLIGHT
TZOFFSETFROM:-0500
TZOFFSETTO:-0400
TZNAME:EDT
DTSTART:20260308T070000
END:DAYLIGHT
BEGIN:STANDARD
TZOFFSETFROM:-0400
TZOFFSETTO:-0500
TZNAME:EST
DTSTART:20261101T060000
END:STANDARD
END:VTIMEZONE
BEGIN:VEVENT
DTSTART;VALUE=DATE:20260515
DTEND;VALUE=DATE:20260516
DTSTAMP:20260420T000222
CREATED:20230111T184140Z
LAST-MODIFIED:20240515T133748Z
UID:6291-1778803200-1778889599@resurrectionists.ca
SUMMARY:May 15
DESCRIPTION:FOCAL POINT: \nAs Resurrectionists we strive to seek a deeper understanding of the nature and devotion of Mary. \n  \nDeceased:\nFr. Stanley Gadacz\, 1972\, Chicago\, USA \n  \nOrdinations:\nFr. Philip Reilly\, 1981\, Canada\nFr. Salvatore Restivo\, 1981\, Canada\nFr. Andre Krzyanowski\, 1982\, Poland\nFr. Gregorio Stachowiak\, 1982\, Poland\nFr. Kazimierz Trawicki\, 1982\, Poland\nFr. Eric Wagner\, 2010\, USA \n  \n\nThat throughout this month of May we deepen our devotions of Mary\, the Mother of God.\nFor vocations to the Congregation of the Resurrection.\nFor peace and justice in our world.\n\n  \nFURTHER REFLECTION: \n“From the foundation of the Congregation of the Resurrection it was clear that our men gathered together and formed community\, not based on culture or nationality\, but on the Spirit of the Resurrection.” (Witnesses to the Resurrection\, 8)
URL:https://resurrectionists.ca/prayer-calendar/may-15/
END:VEVENT
END:VCALENDAR