BEGIN:VCALENDAR
VERSION:2.0
PRODID:-//Congregation of the Resurrection - ECPv6.2.6.1//NONSGML v1.0//EN
CALSCALE:GREGORIAN
METHOD:PUBLISH
X-WR-CALNAME:Congregation of the Resurrection
X-ORIGINAL-URL:https://resurrectionists.ca
X-WR-CALDESC:Events for Congregation of the Resurrection
REFRESH-INTERVAL;VALUE=DURATION:PT1H
X-Robots-Tag:noindex
X-PUBLISHED-TTL:PT1H
BEGIN:VTIMEZONE
TZID:America/Toronto
BEGIN:DAYLIGHT
TZOFFSETFROM:-0500
TZOFFSETTO:-0400
TZNAME:EDT
DTSTART:20260308T070000
END:DAYLIGHT
BEGIN:STANDARD
TZOFFSETFROM:-0400
TZOFFSETTO:-0500
TZNAME:EST
DTSTART:20261101T060000
END:STANDARD
END:VTIMEZONE
BEGIN:VEVENT
DTSTART;VALUE=DATE:20260518
DTEND;VALUE=DATE:20260519
DTSTAMP:20260420T011934
CREATED:20230111T184802Z
LAST-MODIFIED:20230111T184802Z
UID:6300-1779062400-1779148799@resurrectionists.ca
SUMMARY:St. John I
DESCRIPTION:FOCAL POINT: \nMany religious communities\, churches and institutions are dedicated to Mary\, the Mother of God. \n  \nDeceased:\nBr. Adam Szewczyk\, 1966\, Rome\, Italy\nFr. Michael Danek\, 2015\, Chicago\, USA \n  \nBirthday:\nFr. Andre Krzyzanowski\, 1956\, Poland \n  \nFirst Vows: \nFr. Stephen Bartczyszyn\, 1980\, USA\nFr. Paul Sims\, 1980\, USA\n  \nOrdinations:\nFr. Kazimierz Linkiewicz\, 1957\, Poland\nFr. Czeslaw Marchewicz\, 1985\, Poland\nFr. Stanislaw Pankiewicz\, 1985\, Poland\n  \n\nFor all those who have recommended themselves to our prayers.\nFor the graces of Mary to continue to enrich the Church.\nFor all deceased members of the Congregation of the Resurrection.\n\n  \nFURTHER REFLECTION: \n“We need to remind ourselves frequently of God’s pleasure in creating and\, in particular\, His pleasure in creating us.” (Resurrectionist Formation\, 43) \n 
URL:https://resurrectionists.ca/prayer-calendar/st-john-i/
END:VEVENT
END:VCALENDAR