BEGIN:VCALENDAR
VERSION:2.0
PRODID:-//Congregation of the Resurrection - ECPv6.2.6.1//NONSGML v1.0//EN
CALSCALE:GREGORIAN
METHOD:PUBLISH
X-WR-CALNAME:Congregation of the Resurrection
X-ORIGINAL-URL:https://resurrectionists.ca
X-WR-CALDESC:Events for Congregation of the Resurrection
REFRESH-INTERVAL;VALUE=DURATION:PT1H
X-Robots-Tag:noindex
X-PUBLISHED-TTL:PT1H
BEGIN:VTIMEZONE
TZID:America/Toronto
BEGIN:DAYLIGHT
TZOFFSETFROM:-0500
TZOFFSETTO:-0400
TZNAME:EDT
DTSTART:20260308T070000
END:DAYLIGHT
BEGIN:STANDARD
TZOFFSETFROM:-0400
TZOFFSETTO:-0500
TZNAME:EST
DTSTART:20261101T060000
END:STANDARD
END:VTIMEZONE
BEGIN:VEVENT
DTSTART;VALUE=DATE:20260520
DTEND;VALUE=DATE:20260521
DTSTAMP:20260420T011846
CREATED:20230111T185250Z
LAST-MODIFIED:20230111T185250Z
UID:6306-1779235200-1779321599@resurrectionists.ca
SUMMARY:St. Bernadine of Siena
DESCRIPTION:FOCAL POINT: \nWe believe that Mary intercedes on our behalf to assist us in the proclamation of the Resurrection. \n  \nDeceased:\nFr. Anthony Weiler\, 1949\, Kitchener\, Canada \n  \nBirthday:\nBr. Mariusz Biedal\, 1972\, Poland \n  \nOrdination:\nFr. Tadeusz Gajda\, 1978\, Poland\nFr. Florian Stasinski\, 1978\, Poland\nFr. Kazimierz Zaranski\, 1978\, Poland\nFr. Marek Flasinski\, 1989\, Poland\nFr. Krzysztof Kasperek\, 1989\, Poland\nFr. Mieczyslaw Konieczek\, 1989\, Poland\nFr. Henryk Krajewski\, 1989\, Poland\nFr. Andrzej Lewandowski\, 1989\, Poland \n  \n\nFor fidelity to the vows and the spirit of the Resurrection.\nFor all those who take the name of Mary; for all churches and institutions named in Her honor.\nFor members deceased and living parents.\n\n  \nFURTHER REFLECTION: \n“Groups of Resurrectionists are encouraged to ask for the guidance of the Holy Spirit\, to reflect upon their interests\, abilities and the signs of the times in order to respond to the need for their ministerial presence.” (Witnesses to the Resurrection\, 12) \n 
URL:https://resurrectionists.ca/prayer-calendar/st-bernadine-of-siena/
END:VEVENT
END:VCALENDAR