BEGIN:VCALENDAR
VERSION:2.0
PRODID:-//Congregation of the Resurrection - ECPv6.2.6.1//NONSGML v1.0//EN
CALSCALE:GREGORIAN
METHOD:PUBLISH
X-ORIGINAL-URL:https://resurrectionists.ca
X-WR-CALDESC:Events for Congregation of the Resurrection
REFRESH-INTERVAL;VALUE=DURATION:PT1H
X-Robots-Tag:noindex
X-PUBLISHED-TTL:PT1H
BEGIN:VTIMEZONE
TZID:America/Toronto
BEGIN:DAYLIGHT
TZOFFSETFROM:-0500
TZOFFSETTO:-0400
TZNAME:EDT
DTSTART:20260308T070000
END:DAYLIGHT
BEGIN:STANDARD
TZOFFSETFROM:-0400
TZOFFSETTO:-0500
TZNAME:EST
DTSTART:20261101T060000
END:STANDARD
END:VTIMEZONE
BEGIN:VEVENT
DTSTART;VALUE=DATE:20260522
DTEND;VALUE=DATE:20260523
DTSTAMP:20260420T012016
CREATED:20230111T185650Z
LAST-MODIFIED:20230111T185650Z
UID:6312-1779408000-1779494399@resurrectionists.ca
SUMMARY:St. Rita of Cascia ~ Victoria Day in Canada
DESCRIPTION:FOCAL POINT: \nWe believe the intercession of Mary will assist us in being open to the full grace of the Holy Spirit. \n  \nDeceased:\nFr. Adolph Bakanowski\, 1916\, Krakow\, Poland\nBp. Bernard Murphy\, 1974\, Hamilton\, Bermuda\nBr. Salvatore De Angelis\, 1984\, Pescara\, Italy\nFr. John Finn\, 1995\, Kitchener\, Canada\nFr. Thaddeus Napiorkowski 1995\, Chicago\, USA\nFr. Jan Konieczny\, 2021\, Krakow\, Poland \n  \nOrdination:\nFr. Gary Young\, 1976\, USA \n  \n\nFor the Resurrectionists of Brazil and Bolivia and the people they serve.\nFor our local church and our local bishop.\nFor vocations to the Congregation of the Resurrection.\n\n  \nFURTHER REFLECTION: \n“A special expression of our collaboration with the laity\, which belongs to the foundational charism of the Congregation\, is the presence of lay Resurrectionists\, apart from the Congregation\, who through promises constitute communities of the Risen Christ.” (A Vision of Hope\, 5) \n 
URL:https://resurrectionists.ca/prayer-calendar/st-rita-of-cascia-victoria-day-in-canada/
END:VEVENT
END:VCALENDAR