BEGIN:VCALENDAR
VERSION:2.0
PRODID:-//Congregation of the Resurrection - ECPv6.2.6.1//NONSGML v1.0//EN
CALSCALE:GREGORIAN
METHOD:PUBLISH
X-ORIGINAL-URL:https://resurrectionists.ca
X-WR-CALDESC:Events for Congregation of the Resurrection
REFRESH-INTERVAL;VALUE=DURATION:PT1H
X-Robots-Tag:noindex
X-PUBLISHED-TTL:PT1H
BEGIN:VTIMEZONE
TZID:America/Toronto
BEGIN:DAYLIGHT
TZOFFSETFROM:-0500
TZOFFSETTO:-0400
TZNAME:EDT
DTSTART:20260308T070000
END:DAYLIGHT
BEGIN:STANDARD
TZOFFSETFROM:-0400
TZOFFSETTO:-0500
TZNAME:EST
DTSTART:20261101T060000
END:STANDARD
END:VTIMEZONE
BEGIN:VEVENT
DTSTART;VALUE=DATE:20260524
DTEND;VALUE=DATE:20260525
DTSTAMP:20260420T012020
CREATED:20230111T185918Z
LAST-MODIFIED:20230111T185918Z
UID:6318-1779580800-1779667199@resurrectionists.ca
SUMMARY:World Day of Prayer for the Church in China
DESCRIPTION:FOCAL POINT: \nIt is the Church’s norms for prayer that encourages and guides us in our devotions of Mary. \n  \nDeceased:\nBp. Nino Marzoli\, 2000\, Rome\, Italy \n  \n\nFor our deceased members and benefactors.\nFor the one who will die first among us.\nFor blessings upon the Church of China.\n\n  \nFURTHER REFLECTION: \n“Our collaboration with the laity is the most traditional characteristic of the apostolate of the community.” (A Vision of Hope\, 4) \n 
URL:https://resurrectionists.ca/prayer-calendar/world-day-of-prayer-for-the-church-in-china/
END:VEVENT
END:VCALENDAR