BEGIN:VCALENDAR
VERSION:2.0
PRODID:-//Congregation of the Resurrection - ECPv6.2.6.1//NONSGML v1.0//EN
CALSCALE:GREGORIAN
METHOD:PUBLISH
X-ORIGINAL-URL:https://resurrectionists.ca
X-WR-CALDESC:Events for Congregation of the Resurrection
REFRESH-INTERVAL;VALUE=DURATION:PT1H
X-Robots-Tag:noindex
X-PUBLISHED-TTL:PT1H
BEGIN:VTIMEZONE
TZID:America/Toronto
BEGIN:DAYLIGHT
TZOFFSETFROM:-0500
TZOFFSETTO:-0400
TZNAME:EDT
DTSTART:20260308T070000
END:DAYLIGHT
BEGIN:STANDARD
TZOFFSETFROM:-0400
TZOFFSETTO:-0500
TZNAME:EST
DTSTART:20261101T060000
END:STANDARD
END:VTIMEZONE
BEGIN:VEVENT
DTSTART;VALUE=DATE:20260525
DTEND;VALUE=DATE:20260526
DTSTAMP:20260420T012017
CREATED:20230111T190037Z
LAST-MODIFIED:20230111T190037Z
UID:6321-1779667200-1779753599@resurrectionists.ca
SUMMARY:St. Bede the Venerable ~ St. Gregory VII ~ St. Mary Magdalene de’Pazzi
DESCRIPTION:FOCAL POINT: \nOur devotion of Mary is firmly rooted in the revealed Word and based on solid dogmatic foundations. \n  \nOrdination:\nFr. Anthony Bus\, 1984\, USA \n  \n\nFor our Congregation\, our superiors and vocations to the Congregation.\nIn thanksgiving for the generosity of our benefactors.\nFor deceased members of the Congregation of the Resurrection.\n\n  \nFURTHER REFLECTION: \n“True hope is founded upon our own personal experience of dying and rising in union with Christ.” (New Horizons of Hope\, 3) \n 
URL:https://resurrectionists.ca/prayer-calendar/st-bede-the-venerable-st-gregory-vii-st-mary-magdalene-depazzi/
END:VEVENT
END:VCALENDAR