BEGIN:VCALENDAR
VERSION:2.0
PRODID:-//Congregation of the Resurrection - ECPv6.2.6.1//NONSGML v1.0//EN
CALSCALE:GREGORIAN
METHOD:PUBLISH
X-ORIGINAL-URL:https://resurrectionists.ca
X-WR-CALDESC:Events for Congregation of the Resurrection
REFRESH-INTERVAL;VALUE=DURATION:PT1H
X-Robots-Tag:noindex
X-PUBLISHED-TTL:PT1H
BEGIN:VTIMEZONE
TZID:America/Toronto
BEGIN:DAYLIGHT
TZOFFSETFROM:-0500
TZOFFSETTO:-0400
TZNAME:EDT
DTSTART:20260308T070000
END:DAYLIGHT
BEGIN:STANDARD
TZOFFSETFROM:-0400
TZOFFSETTO:-0500
TZNAME:EST
DTSTART:20261101T060000
END:STANDARD
END:VTIMEZONE
BEGIN:VEVENT
DTSTART;VALUE=DATE:20260526
DTEND;VALUE=DATE:20260527
DTSTAMP:20260420T012016
CREATED:20230111T190156Z
LAST-MODIFIED:20230111T190156Z
UID:6324-1779753600-1779839999@resurrectionists.ca
SUMMARY:St. Philip Neri
DESCRIPTION:FOCAL POINT: \nLet us recall Mary’s unceasing and efficacious intercession on our behalf. \n  \nDeceased:\nFr. Simon Winter\, 1967\, Kitchener\, Canada\nBr. Josef Antyga\, 1970\, Vienna\, Austria\nFr. Leonard Mustal\, 1975\, Lodrino\, Switzerland\nFr. Pawl Mietki\, 2010\, Krakow\, Poland\nFr. Charles Messler\, 2017\, St. Louis\, USA \n  \nBirthday:\nBr. Pawel Drach\, 1991\, Poland \n  \nFirst Vows:\nFr. James Donohue\, 1979\, Canada\nFr. Anthony Bus\, 1979\, USA \n  \nOrdinations:\nFr. Lukasz Pecyna\, 2018\, Poland\nFr. Daniel Szkubera\, 2018\, Poland \n  \n\nThat we may imitate our Founders\, especially their trust in divine providence.\nFor Mary’s continued intercession upon our Congregation.\nFor deceased members and benefactors.\n\n  \nFURTHER REFLECTION: \n“We confidently build on the past\, using it to understand and respond to our new horizon. (New Horizons of Hope\, 1) \n 
URL:https://resurrectionists.ca/prayer-calendar/st-philip-neri/
END:VEVENT
END:VCALENDAR