BEGIN:VCALENDAR
VERSION:2.0
PRODID:-//Congregation of the Resurrection - ECPv6.2.6.1//NONSGML v1.0//EN
CALSCALE:GREGORIAN
METHOD:PUBLISH
X-ORIGINAL-URL:https://resurrectionists.ca
X-WR-CALDESC:Events for Congregation of the Resurrection
REFRESH-INTERVAL;VALUE=DURATION:PT1H
X-Robots-Tag:noindex
X-PUBLISHED-TTL:PT1H
BEGIN:VTIMEZONE
TZID:America/Toronto
BEGIN:DAYLIGHT
TZOFFSETFROM:-0500
TZOFFSETTO:-0400
TZNAME:EDT
DTSTART:20260308T070000
END:DAYLIGHT
BEGIN:STANDARD
TZOFFSETFROM:-0400
TZOFFSETTO:-0500
TZNAME:EST
DTSTART:20261101T060000
END:STANDARD
END:VTIMEZONE
BEGIN:VEVENT
DTSTART;VALUE=DATE:20260602
DTEND;VALUE=DATE:20260603
DTSTAMP:20260420T012002
CREATED:20230119T210257Z
LAST-MODIFIED:20230119T210257Z
UID:6494-1780358400-1780444799@resurrectionists.ca
SUMMARY:Sts. Marcellinus and Peter
DESCRIPTION:FOCAL POINT: \n“We look upon our superiors as God’s representative. Beside obeying their commands\, we strive to see these commands as wise and good.” (Con. 44) \n  \nDeceased:\nBr. Maciej Grochowski\, 1955\, Warsaw\, Poland \n  \nBirthdays:\nFr. Kazimierz Trawicki\, 1954\, Poland\nFr. Eric Wagner\, 1981\, USA \n  \nOrdination: \nFr. Toby Collins\, 2007\, Canada\n  \n\nFor the safety of those going on vacation during these summer months.\nFor all the members of our local house.\nFor those in our Congregation who are struggling with their faith.\n\n  \nFURTHER REFLECTION: \n“Knowledge of self is a privileged occasion of a new experience of God’s unconditional love.” (Ongoing Formation\, 7) \n 
URL:https://resurrectionists.ca/prayer-calendar/sts-marcellinus-and-peter/
END:VEVENT
END:VCALENDAR