BEGIN:VCALENDAR
VERSION:2.0
PRODID:-//Congregation of the Resurrection - ECPv6.2.6.1//NONSGML v1.0//EN
CALSCALE:GREGORIAN
METHOD:PUBLISH
X-ORIGINAL-URL:https://resurrectionists.ca
X-WR-CALDESC:Events for Congregation of the Resurrection
REFRESH-INTERVAL;VALUE=DURATION:PT1H
X-Robots-Tag:noindex
X-PUBLISHED-TTL:PT1H
BEGIN:VTIMEZONE
TZID:America/Toronto
BEGIN:DAYLIGHT
TZOFFSETFROM:-0500
TZOFFSETTO:-0400
TZNAME:EDT
DTSTART:20260308T070000
END:DAYLIGHT
BEGIN:STANDARD
TZOFFSETFROM:-0400
TZOFFSETTO:-0500
TZNAME:EST
DTSTART:20261101T060000
END:STANDARD
END:VTIMEZONE
BEGIN:VEVENT
DTSTART;VALUE=DATE:20260603
DTEND;VALUE=DATE:20260604
DTSTAMP:20260420T012019
CREATED:20230119T211113Z
LAST-MODIFIED:20230119T211113Z
UID:6497-1780444800-1780531199@resurrectionists.ca
SUMMARY:St. Charles Lwanga and Companions
DESCRIPTION:FOCAL POINT: \n“In conscience\, we consider as the will of God that we fulfill whatever the superior may have commanded or forbidden\, unless it is evidently sinful.” (Con\, 44) \n  \nBirthday:\nFr. Robert Rapinszuk\, 1979\, Poland \n  \nOrdination:\nFr. Ray Reitzel\, 1961\, Canada \n  \n\nFor all students\, teachers and support staff as the school nears completion.\nFor vocations to our Congregation.\nFor all deceased Resurrectionists.\n\n  \nFURTHER REFLECTION: \n“In order that the members of the Province be involved in reviewing and reassessing community life and work and evaluating opportunities for the future\, the provincial superior after his election\, with the consent of his provincial council\, will appoint or confirm ‘ad hoc’ and standing committees.” (Provincial Statute\, 37) \n 
URL:https://resurrectionists.ca/prayer-calendar/st-charles-lwanga-and-companions/
END:VEVENT
END:VCALENDAR