BEGIN:VCALENDAR
VERSION:2.0
PRODID:-//Congregation of the Resurrection - ECPv6.2.6.1//NONSGML v1.0//EN
CALSCALE:GREGORIAN
METHOD:PUBLISH
X-ORIGINAL-URL:https://resurrectionists.ca
X-WR-CALDESC:Events for Congregation of the Resurrection
REFRESH-INTERVAL;VALUE=DURATION:PT1H
X-Robots-Tag:noindex
X-PUBLISHED-TTL:PT1H
BEGIN:VTIMEZONE
TZID:America/Toronto
BEGIN:DAYLIGHT
TZOFFSETFROM:-0500
TZOFFSETTO:-0400
TZNAME:EDT
DTSTART:20260308T070000
END:DAYLIGHT
BEGIN:STANDARD
TZOFFSETFROM:-0400
TZOFFSETTO:-0500
TZNAME:EST
DTSTART:20261101T060000
END:STANDARD
END:VTIMEZONE
BEGIN:VEVENT
DTSTART;VALUE=DATE:20260604
DTEND;VALUE=DATE:20260605
DTSTAMP:20260420T012002
CREATED:20230119T212115Z
LAST-MODIFIED:20230119T212115Z
UID:6500-1780531200-1780617599@resurrectionists.ca
SUMMARY:The Most Holy Trinity
DESCRIPTION:FOCAL POINT: \n“If we have views about a matter\, or about the way it should be done\, contrary to the orders we have received\, we ought to consider the matter seriously before God and then present our views to the superior\, who may never have considered the issue from this point of view.” (Con. 45) \n  \n\nFor the Church\, our Holy Father and for our local ordinary.\nFor those seeking employment.\nFor those who have asked us to remember them in our prayers.\n\n  \nFURTHER REFLECTION: \n“For Resurrectionists spiritual growth means in particular to grow in the virtue of hope\, through an ever more profound participation in the dynamic of the Paschal Mystery encompassing his entire life.” (Ongoing Formation\, 5)
URL:https://resurrectionists.ca/prayer-calendar/the-most-holy-trinity/
END:VEVENT
END:VCALENDAR