BEGIN:VCALENDAR
VERSION:2.0
PRODID:-//Congregation of the Resurrection - ECPv6.2.6.1//NONSGML v1.0//EN
CALSCALE:GREGORIAN
METHOD:PUBLISH
X-ORIGINAL-URL:https://resurrectionists.ca
X-WR-CALDESC:Events for Congregation of the Resurrection
REFRESH-INTERVAL;VALUE=DURATION:PT1H
X-Robots-Tag:noindex
X-PUBLISHED-TTL:PT1H
BEGIN:VTIMEZONE
TZID:America/Toronto
BEGIN:DAYLIGHT
TZOFFSETFROM:-0500
TZOFFSETTO:-0400
TZNAME:EDT
DTSTART:20260308T070000
END:DAYLIGHT
BEGIN:STANDARD
TZOFFSETFROM:-0400
TZOFFSETTO:-0500
TZNAME:EST
DTSTART:20261101T060000
END:STANDARD
END:VTIMEZONE
BEGIN:VEVENT
DTSTART;VALUE=DATE:20260608
DTEND;VALUE=DATE:20260609
DTSTAMP:20260420T025731
CREATED:20230224T204150Z
LAST-MODIFIED:20230224T204150Z
UID:7419-1780876800-1780963199@resurrectionists.ca
SUMMARY:June 8
DESCRIPTION:FOCAL POINT: \n“Our relationship with our superior is built on love.” (Con. 46) \n  \nBirthday:\nFr. Richard Grek\, 1940\, USA \n  \nOrdinations:\nFr. Stefan Koperek\, 1963\, Poland\nFr. Zbigniew Kozielec\, 1963\, Poland \n  \n\nFor those who have recommended themselves to our prayers.\nFor peace in the world.\nFor the guidance of the Holy Spirit upon the Superior General and his curia.\n\n  \nFURTHER REFLECTION: \n“We recognize the Risen Lord through our relationships with other people.” (Witnesses to the Resurrection\, 1)
URL:https://resurrectionists.ca/prayer-calendar/june-8/
END:VEVENT
END:VCALENDAR