BEGIN:VCALENDAR
VERSION:2.0
PRODID:-//Congregation of the Resurrection - ECPv6.2.6.1//NONSGML v1.0//EN
CALSCALE:GREGORIAN
METHOD:PUBLISH
X-WR-CALNAME:Congregation of the Resurrection
X-ORIGINAL-URL:https://resurrectionists.ca
X-WR-CALDESC:Events for Congregation of the Resurrection
REFRESH-INTERVAL;VALUE=DURATION:PT1H
X-Robots-Tag:noindex
X-PUBLISHED-TTL:PT1H
BEGIN:VTIMEZONE
TZID:America/Toronto
BEGIN:DAYLIGHT
TZOFFSETFROM:-0500
TZOFFSETTO:-0400
TZNAME:EDT
DTSTART:20260308T070000
END:DAYLIGHT
BEGIN:STANDARD
TZOFFSETFROM:-0400
TZOFFSETTO:-0500
TZNAME:EST
DTSTART:20261101T060000
END:STANDARD
END:VTIMEZONE
BEGIN:VEVENT
DTSTART;VALUE=DATE:20260610
DTEND;VALUE=DATE:20260611
DTSTAMP:20260420T025643
CREATED:20230224T210043Z
LAST-MODIFIED:20230224T210043Z
UID:7424-1781049600-1781135999@resurrectionists.ca
SUMMARY:June 10
DESCRIPTION:FOCAL POINT: \n“Openness and sincerity also manifests itself in our willingness to keep our superior informed about the tasks in which we are involved.” (Con. 46) \n  \nDeceased:\nFr. Serafino Cosimi\, 1906\, Chicago\, USA\nBr. Valentine Lewandowski\, 1935\, Chicago\, USA\nFr. Witold Zamirowski\, 1940\, Warsaw\, Poland\nFr. Leander Dentinger\, 1989\, Kitchener\, Canada\nFr. Edward DuBel\, 2007\, Panama City\, USA\nFr. Gary Hogan\, 2021\, St. Louis\, USA \n  \n\nFor our deceased members and benefactors.\nFor vocations to our community.\nFor couples preparing for marriage.\n\n  \nFURTHER REFLECTION: \n“Those who seek to enter into our way of life have a right to receive the values\, character\, and spiritual benefits of our Resurrectionist way of life\, as handed down by those who have gone before us and as lived by Resurrectionists today.” (Formation Policies and Procedures\, 24) \n 
URL:https://resurrectionists.ca/prayer-calendar/june-10/
END:VEVENT
END:VCALENDAR