BEGIN:VCALENDAR
VERSION:2.0
PRODID:-//Congregation of the Resurrection - ECPv6.2.6.1//NONSGML v1.0//EN
CALSCALE:GREGORIAN
METHOD:PUBLISH
X-ORIGINAL-URL:https://resurrectionists.ca
X-WR-CALDESC:Events for Congregation of the Resurrection
REFRESH-INTERVAL;VALUE=DURATION:PT1H
X-Robots-Tag:noindex
X-PUBLISHED-TTL:PT1H
BEGIN:VTIMEZONE
TZID:America/Toronto
BEGIN:DAYLIGHT
TZOFFSETFROM:-0500
TZOFFSETTO:-0400
TZNAME:EDT
DTSTART:20260308T070000
END:DAYLIGHT
BEGIN:STANDARD
TZOFFSETFROM:-0400
TZOFFSETTO:-0500
TZNAME:EST
DTSTART:20261101T060000
END:STANDARD
END:VTIMEZONE
BEGIN:VEVENT
DTSTART;VALUE=DATE:20260611
DTEND;VALUE=DATE:20260612
DTSTAMP:20260420T025823
CREATED:20230224T210202Z
LAST-MODIFIED:20230224T210202Z
UID:7427-1781136000-1781222399@resurrectionists.ca
SUMMARY:Most Holy Body and Blood of Christ
DESCRIPTION:FOCAL POINT: \n“A superior will remember that he represents Christ\, ‘who has come not to be served by others\, but to serve’ (Matthew 20:28)\, and he will\, therefore\, exercise his authority in a spirit of service.” (Con. 47) \n  \nDeceased:\nFr. Edward Janusz\, 1973\, Chicago\, USA\nFr. John Spielmacher\, 1979\, Kitchener\, Canada \n  \nOrdinations:\nFr. Julio Blazejewski\, 1964\, Poland\nFr. Bronislaw Zaranski\, 1964\, Poland \n  \n\nFor all the deceased\, and for the one who will die first among us.\nFor those who minister with us.\nThat the Eucharist will be a constant source of spiritual nourishment as we proclaim the Resurrection.\n\n  \nFURTHER REFLECTION: \n“Formation is not a passive submission to the influence of others\, but it is an active involvement by a religious in his own human\, spiritual and apostolic progress.” (Ongoing Formation\, 3)
URL:https://resurrectionists.ca/prayer-calendar/most-holy-body-and-blood-of-christ/
END:VEVENT
END:VCALENDAR