BEGIN:VCALENDAR
VERSION:2.0
PRODID:-//Congregation of the Resurrection - ECPv6.2.6.1//NONSGML v1.0//EN
CALSCALE:GREGORIAN
METHOD:PUBLISH
X-ORIGINAL-URL:https://resurrectionists.ca
X-WR-CALDESC:Events for Congregation of the Resurrection
REFRESH-INTERVAL;VALUE=DURATION:PT1H
X-Robots-Tag:noindex
X-PUBLISHED-TTL:PT1H
BEGIN:VTIMEZONE
TZID:America/Toronto
BEGIN:DAYLIGHT
TZOFFSETFROM:-0500
TZOFFSETTO:-0400
TZNAME:EDT
DTSTART:20260308T070000
END:DAYLIGHT
BEGIN:STANDARD
TZOFFSETFROM:-0400
TZOFFSETTO:-0500
TZNAME:EST
DTSTART:20261101T060000
END:STANDARD
END:VTIMEZONE
BEGIN:VEVENT
DTSTART;VALUE=DATE:20260612
DTEND;VALUE=DATE:20260613
DTSTAMP:20260420T025822
CREATED:20230224T210705Z
LAST-MODIFIED:20230224T210705Z
UID:7430-1781222400-1781308799@resurrectionists.ca
SUMMARY:Blessed Alice Kotowska\, CR and the 107 Martyrs of Poland
DESCRIPTION:FOCAL POINT: \n“The superior will strive to imitate Christ’s kindness and availability and to offer the support of his own example\, prayer\, counsel\, trust and encouragement.” (Con. 47) \n  \nDeceased:\nFr. Stanley Pawlikowski\, 1994\, Des Plaines\, USA\nFr. Grzegorz Treder\, 2010\, Bayreuth\, Germany \n  \nBirthdays:\nFr. Antonio Motyka 1969\, Poland\nFr. Wojciech Maliszewski\, 1976\, Poland \n  \nFirst Vows: \nFr. Timothy Keppel\, 1971\, USA\n  \nOrdination:\nFr. Piotr Strzelczyk\, 2005\, Poland \n  \n\nFor fidelity to our charism and our religious vows.\nFor Blessed Alice Kotowska\, CR and companions\, who were martyred by Nazi forces in 1939.\nFor our benefactors\, both living and deceased.\n\n  \nFURTHER REFLECTION: \n“The purpose of ongoing formation is a more mature\, creatively faithful living out of one’s own religious vocation\, open to renewal.” (Ongoing Formation\, 4)
URL:https://resurrectionists.ca/prayer-calendar/blessed-alice-kotowska-cr-and-the-107-martyrs-of-poland/
END:VEVENT
END:VCALENDAR