BEGIN:VCALENDAR
VERSION:2.0
PRODID:-//Congregation of the Resurrection - ECPv6.2.6.1//NONSGML v1.0//EN
CALSCALE:GREGORIAN
METHOD:PUBLISH
X-ORIGINAL-URL:https://resurrectionists.ca
X-WR-CALDESC:Events for Congregation of the Resurrection
REFRESH-INTERVAL;VALUE=DURATION:PT1H
X-Robots-Tag:noindex
X-PUBLISHED-TTL:PT1H
BEGIN:VTIMEZONE
TZID:America/Toronto
BEGIN:DAYLIGHT
TZOFFSETFROM:-0500
TZOFFSETTO:-0400
TZNAME:EDT
DTSTART:20260308T070000
END:DAYLIGHT
BEGIN:STANDARD
TZOFFSETFROM:-0400
TZOFFSETTO:-0500
TZNAME:EST
DTSTART:20261101T060000
END:STANDARD
END:VTIMEZONE
BEGIN:VEVENT
DTSTART;VALUE=DATE:20260613
DTEND;VALUE=DATE:20260614
DTSTAMP:20260420T025820
CREATED:20230224T211052Z
LAST-MODIFIED:20230224T211052Z
UID:7432-1781308800-1781395199@resurrectionists.ca
SUMMARY:St. Anthony of Padua
DESCRIPTION:FOCAL POINT: \n“Even the difficult task of administering correction can be a service of love if the superior strives to show the patience\, understanding\, hesitancy to condemn and the forgiveness which Christ showed to Peter after the denial.” (Con. 47) \n  \nDeceased:\nFr. Wladyslaw Kwiatkowski\, 1954\, Rome\, Italy\nFr. Aleksander Bartnik\, 1980\, Zlocieniec\, Poland\nFr. Tadeusz Wlodarczyk\, 2012\, Warsaw\, Poland \n  \nBirthdays:\nBr. Stefan Pawluczuk\, 1951\, Poland\nCl. Michal Michalski\, 1997\, Poland \n  \n\nFor the Church\, the Holy Father and our local ordinary.\nFor the guidance of the Holy Spirit upon our superiors – general\, provincial/regional\, and local level.\nFor all deceased members.\n\n  \nFURTHER REFLECTION: \n“Ongoing formation takes place throughout the entire life of the religious.” (Ongoing Formation\, 9)
URL:https://resurrectionists.ca/prayer-calendar/st-anthony-of-padua/
END:VEVENT
END:VCALENDAR