BEGIN:VCALENDAR
VERSION:2.0
PRODID:-//Congregation of the Resurrection - ECPv6.2.6.1//NONSGML v1.0//EN
CALSCALE:GREGORIAN
METHOD:PUBLISH
X-WR-CALNAME:Congregation of the Resurrection
X-ORIGINAL-URL:https://resurrectionists.ca
X-WR-CALDESC:Events for Congregation of the Resurrection
REFRESH-INTERVAL;VALUE=DURATION:PT1H
X-Robots-Tag:noindex
X-PUBLISHED-TTL:PT1H
BEGIN:VTIMEZONE
TZID:America/Toronto
BEGIN:DAYLIGHT
TZOFFSETFROM:-0500
TZOFFSETTO:-0400
TZNAME:EDT
DTSTART:20260308T070000
END:DAYLIGHT
BEGIN:STANDARD
TZOFFSETFROM:-0400
TZOFFSETTO:-0500
TZNAME:EST
DTSTART:20261101T060000
END:STANDARD
END:VTIMEZONE
BEGIN:VEVENT
DTSTART;VALUE=DATE:20260614
DTEND;VALUE=DATE:20260615
DTSTAMP:20260420T031952
CREATED:20230224T211252Z
LAST-MODIFIED:20230224T211252Z
UID:7435-1781395200-1781481599@resurrectionists.ca
SUMMARY:June 14
DESCRIPTION:FOCAL POINT: \n“Mass shall be offered in each House for the Superior General and for the Provincial Superior on the anniversary of their election.” (Con. 76) \n  \nDeceased:\nCl. Ignacy Zamojski\, 1894\, Krakow\, Poland\nCl. Jan Hosenberg\, 1895\, Skaibotten\, Prussia\nCl: Ludwik Rychlik\, 1895\, Lwow\, Poland\nFr. Andrzej Klimaszewski\, 1995\, Sambor\, Ukraine\nFr. Patrick Sheridan\, 2003\, Kitchener\, Canada \n  \nOrdinations:\nFr. Henryk Karbowiak\, 1970\, Poland\nFr. Kazimierz Wojtowicz 1970\, Poland \n  \n\nFor our Congregation\, our superiors and vocations to our Congregation.\nFor the gift of wisdom for all pastors.\nFor Father General and his Curia.\n\n  \nFURTHER REFLECTION: \n“In order to help one another to live a healthy celibate life\, religious should encourage and support one another in the development of friendships both within community and outside community. (Provincial Statute\, 12)
URL:https://resurrectionists.ca/prayer-calendar/june-14/
END:VEVENT
END:VCALENDAR