BEGIN:VCALENDAR
VERSION:2.0
PRODID:-//Congregation of the Resurrection - ECPv6.2.6.1//NONSGML v1.0//EN
CALSCALE:GREGORIAN
METHOD:PUBLISH
X-WR-CALNAME:Congregation of the Resurrection
X-ORIGINAL-URL:https://resurrectionists.ca
X-WR-CALDESC:Events for Congregation of the Resurrection
REFRESH-INTERVAL;VALUE=DURATION:PT1H
X-Robots-Tag:noindex
X-PUBLISHED-TTL:PT1H
BEGIN:VTIMEZONE
TZID:America/Toronto
BEGIN:DAYLIGHT
TZOFFSETFROM:-0500
TZOFFSETTO:-0400
TZNAME:EDT
DTSTART:20260308T070000
END:DAYLIGHT
BEGIN:STANDARD
TZOFFSETFROM:-0400
TZOFFSETTO:-0500
TZNAME:EST
DTSTART:20261101T060000
END:STANDARD
END:VTIMEZONE
BEGIN:VEVENT
DTSTART;VALUE=DATE:20260615
DTEND;VALUE=DATE:20260616
DTSTAMP:20260420T025654
CREATED:20230224T211423Z
LAST-MODIFIED:20230224T211423Z
UID:7438-1781481600-1781567999@resurrectionists.ca
SUMMARY:June 15
DESCRIPTION:FOCAL POINT: \n“Superiors will strive to see that all observe the Constitutions and Statutes.” (Con. 48) \n  \nDeceased:\nBr. Antoni Karpinski\, 1893\, Rome\, Italy\nBr. Domenico Polverini\, 1897\, Mentorella\, Italy\nFr. Jan Mika\, 2003\, Mentorella\, Italy\nBr. Thomas Iwicki\, 2009\, Woodstock\, USA \n  \nOrdinations:\nFr. Jan Nikel\, 1980\, Poland\nFr. Michal Osuch\, 1980\, Poland\nFr. Stanislaw Stenka\, 1980\, Poland\nFr. Raphael Ma\, 2019\, Canada \n  \nBirthday:\nFr. Ryszard Pacholec\, 1949\, Poland \n  \n\nFor our country\, our parents\, relatives\, friends and benefactors.\nFor peace in the world.\nFor blessings and graces upon all who shepherd God’s people.\n\n  \nFURTHER REFLECTION: \n“The province will continue to honour\, support and affirm our members in our educational apostolates.” (Provincial Statute\, 70)
URL:https://resurrectionists.ca/prayer-calendar/june-15/
END:VEVENT
END:VCALENDAR