BEGIN:VCALENDAR
VERSION:2.0
PRODID:-//Congregation of the Resurrection - ECPv6.2.6.1//NONSGML v1.0//EN
CALSCALE:GREGORIAN
METHOD:PUBLISH
X-WR-CALNAME:Congregation of the Resurrection
X-ORIGINAL-URL:https://resurrectionists.ca
X-WR-CALDESC:Events for Congregation of the Resurrection
REFRESH-INTERVAL;VALUE=DURATION:PT1H
X-Robots-Tag:noindex
X-PUBLISHED-TTL:PT1H
BEGIN:VTIMEZONE
TZID:America/Toronto
BEGIN:DAYLIGHT
TZOFFSETFROM:-0500
TZOFFSETTO:-0400
TZNAME:EDT
DTSTART:20260308T070000
END:DAYLIGHT
BEGIN:STANDARD
TZOFFSETFROM:-0400
TZOFFSETTO:-0500
TZNAME:EST
DTSTART:20261101T060000
END:STANDARD
END:VTIMEZONE
BEGIN:VEVENT
DTSTART;VALUE=DATE:20260616
DTEND;VALUE=DATE:20260617
DTSTAMP:20260420T025642
CREATED:20230224T211713Z
LAST-MODIFIED:20230224T211713Z
UID:7441-1781568000-1781654399@resurrectionists.ca
SUMMARY:Sacred Heart of Jesus and Day of Prayer for the Sanctification of Priests
DESCRIPTION:FOCAL POINT: \n“A superior is concerned not only with the material needs of his brothers\, but above all\, he is responsible for their spiritual needs.” (Con. 48) \n  \nDeceased:\nFr. Joseph Schweitzer\, 1933\, Waterloo\, Canada\nBr. Stanislaus Grzesiczek\, 1947\, Chicago\, USA\nFr. Wladyslaw Zapala\, 1948\, New York\, USA\nFr. Henryk Nowakowski\, 1972\, Poznan\, Poland \n  \nBirthdays: \nFr. Sutherland MacDonald\, 1942\, Canada\nFr. C. Frank Phillips\, 1950\, USA\n  \n\nFor all those who have recommended themselves to our prayers.\nFor those who were at one time members of the Congregation of the Resurrection.\nFor the sanctification of priests.\n\n  \nFURTHER REFLECTION: \n“The requirement of ongoing formation comes from the nature of the Resurrectionist vocation\, from natural limitations of the human person who never stops ‘to become’ and from the changing condition of our life and apostolate.” (Ongoing Formation\, 2)
URL:https://resurrectionists.ca/prayer-calendar/sacred-heart-of-jesus-and-day-of-prayer-for-the-sanctification-of-priests/
END:VEVENT
END:VCALENDAR