BEGIN:VCALENDAR
VERSION:2.0
PRODID:-//Congregation of the Resurrection - ECPv6.2.6.1//NONSGML v1.0//EN
CALSCALE:GREGORIAN
METHOD:PUBLISH
X-WR-CALNAME:Congregation of the Resurrection
X-ORIGINAL-URL:https://resurrectionists.ca
X-WR-CALDESC:Events for Congregation of the Resurrection
REFRESH-INTERVAL;VALUE=DURATION:PT1H
X-Robots-Tag:noindex
X-PUBLISHED-TTL:PT1H
BEGIN:VTIMEZONE
TZID:America/Toronto
BEGIN:DAYLIGHT
TZOFFSETFROM:-0500
TZOFFSETTO:-0400
TZNAME:EDT
DTSTART:20260308T070000
END:DAYLIGHT
BEGIN:STANDARD
TZOFFSETFROM:-0400
TZOFFSETTO:-0500
TZNAME:EST
DTSTART:20261101T060000
END:STANDARD
END:VTIMEZONE
BEGIN:VEVENT
DTSTART;VALUE=DATE:20260617
DTEND;VALUE=DATE:20260618
DTSTAMP:20260420T025556
CREATED:20230228T210615Z
LAST-MODIFIED:20230228T211449Z
UID:7563-1781654400-1781740799@resurrectionists.ca
SUMMARY:Immaculate Heart of Mary
DESCRIPTION:FOCAL POINT: \n“As religious\, we live our entire life under the vow of obedience.” (Con. 52) \n  \nDeceased:\nCl. Wladyslaw Felinski\, 1870\, Rome\, Italy\nBr. Adam Hejzyk\, 1944\, Pensacola\, USA\nCl. Roman Mazur\, 1981\, Krakow\, Poland\nFr. Wladyslaw Dymny\, 2018\, Poland \n  \nOrdinations:\nFr. Stefan Duda \n\, 1958\, Poland\nFr. Wincenty Suwala\, 1958\, Poland\nFr. Wladyslaw Tarnowski\, 1958\, Poland\nFr. Stanislaw Landzwojczak\, 1972\, Poland\n  \n\nFor all our members in the missions.\nFor those who we educated in our schools and parishes.\nFor all those who have asked us to pray for their intentions.\n\n  \nFURTHER REFLECTION: \n“Ongoing formation is both a duty that comes out of the nature of religious consecration\, as well as a right of every Resurrectionist.” (Ongoing Formation\, 4)
URL:https://resurrectionists.ca/prayer-calendar/immaculate-heart-of-mary-2/
END:VEVENT
END:VCALENDAR