BEGIN:VCALENDAR
VERSION:2.0
PRODID:-//Congregation of the Resurrection - ECPv6.2.6.1//NONSGML v1.0//EN
CALSCALE:GREGORIAN
METHOD:PUBLISH
X-ORIGINAL-URL:https://resurrectionists.ca
X-WR-CALDESC:Events for Congregation of the Resurrection
REFRESH-INTERVAL;VALUE=DURATION:PT1H
X-Robots-Tag:noindex
X-PUBLISHED-TTL:PT1H
BEGIN:VTIMEZONE
TZID:America/Halifax
BEGIN:DAYLIGHT
TZOFFSETFROM:-0400
TZOFFSETTO:-0300
TZNAME:ADT
DTSTART:20260308T060000
END:DAYLIGHT
BEGIN:STANDARD
TZOFFSETFROM:-0300
TZOFFSETTO:-0400
TZNAME:AST
DTSTART:20261101T050000
END:STANDARD
END:VTIMEZONE
BEGIN:VEVENT
DTSTART;VALUE=DATE:20260618
DTEND;VALUE=DATE:20260619
DTSTAMP:20260420T025822
CREATED:20220618T153352Z
LAST-MODIFIED:20230228T211357Z
UID:1341-1781740800-1781827199@resurrectionists.ca
SUMMARY:11th Sunday in Ordinary Time - Fathers' Day
DESCRIPTION:FOCAL POINT: \n“A superior also practices obedience. He seeks out the Lord’s will for himself\, for his brothers and for the community entrusted to his care\, and he leads the community to the acceptance of the Lord’s will.” (Con. 50) \n  \nDeceased:\nFr. Lukasz Wronowkski\, 1902\, Lwow\, Poland\nFr. Franciszek Lutrzykowski\, 1906\, Vienna\, Austria\nBr. Stanislaw Poniewierski\, 1927\, Rome\, Italy \n  \nBirthday:\nFr. Zbigniew Kozielec 1938\, Poland \n  \n\nFor the conversion of sinners\, and for all in affliction\, temptation and agony.\nFor fidelity to the spirit of our Founders.\nFor all fathers\, living and deceased.\n\n  \nFURTHER REFLECTION: \n“Ongoing formation\, as far as its intellectual dimension is concerned\, practically speaking is a persistent effort to adapt methods and goals of apostolic work – typical of the charism of the Congregation – to the needs of modern society and the Church.” (Ongoing Formation\, 8)
URL:https://resurrectionists.ca/prayer-calendar/june-18/
END:VEVENT
END:VCALENDAR