BEGIN:VCALENDAR
VERSION:2.0
PRODID:-//Congregation of the Resurrection - ECPv6.2.6.1//NONSGML v1.0//EN
CALSCALE:GREGORIAN
METHOD:PUBLISH
X-WR-CALNAME:Congregation of the Resurrection
X-ORIGINAL-URL:https://resurrectionists.ca
X-WR-CALDESC:Events for Congregation of the Resurrection
REFRESH-INTERVAL;VALUE=DURATION:PT1H
X-Robots-Tag:noindex
X-PUBLISHED-TTL:PT1H
BEGIN:VTIMEZONE
TZID:America/Halifax
BEGIN:DAYLIGHT
TZOFFSETFROM:-0400
TZOFFSETTO:-0300
TZNAME:ADT
DTSTART:20260308T060000
END:DAYLIGHT
BEGIN:STANDARD
TZOFFSETFROM:-0300
TZOFFSETTO:-0400
TZNAME:AST
DTSTART:20261101T050000
END:STANDARD
END:VTIMEZONE
BEGIN:VEVENT
DTSTART;VALUE=DATE:20260619
DTEND;VALUE=DATE:20260620
DTSTAMP:20260420T025643
CREATED:20220618T153305Z
LAST-MODIFIED:20230228T211757Z
UID:1338-1781827200-1781913599@resurrectionists.ca
SUMMARY:St. Romuald
DESCRIPTION:FOCUS POINT: \n“In order to treat his confreres as befits the children of God and with respect for the human person\, the superior listens willingly to them and encourages them to make a personal contribution to the welfare of the Community and the Church.” (Con. 50) \n  \nDeceased:\nBr. Aleksander Kominowski\, 2005\, Poznan\, Poland \n  \nBirthday:\nFr. Lech Nowinski\, 1959\, Poland \n  \nOrdinations:\nFr. Josef Domoradski\, 1976\, Poland\nFr. Zygmunt Frackowiak\, 1976\, Poland\nFr. Wlodzimierz Sobolewski\, 1976\, Poland \n  \n\nFor our deceased members and benefactors.\nFor those who were our formation directors\, living and deceased.\nFor an openness to the spirit of the Founder.\n\n  \nFURTHER REFLECTION: \n“The consecrated life\, deeply rooted in the example and teaching of Christ the Lord\, is a gift of God the Father to his Church through the Holy Spirit.” (Vita Consecrata\, 1)
URL:https://resurrectionists.ca/prayer-calendar/st-romuald/
END:VEVENT
END:VCALENDAR