BEGIN:VCALENDAR
VERSION:2.0
PRODID:-//Congregation of the Resurrection - ECPv6.2.6.1//NONSGML v1.0//EN
CALSCALE:GREGORIAN
METHOD:PUBLISH
X-WR-CALNAME:Congregation of the Resurrection
X-ORIGINAL-URL:https://resurrectionists.ca
X-WR-CALDESC:Events for Congregation of the Resurrection
REFRESH-INTERVAL;VALUE=DURATION:PT1H
X-Robots-Tag:noindex
X-PUBLISHED-TTL:PT1H
BEGIN:VTIMEZONE
TZID:America/Halifax
BEGIN:DAYLIGHT
TZOFFSETFROM:-0400
TZOFFSETTO:-0300
TZNAME:ADT
DTSTART:20260308T060000
END:DAYLIGHT
BEGIN:STANDARD
TZOFFSETFROM:-0300
TZOFFSETTO:-0400
TZNAME:AST
DTSTART:20261101T050000
END:STANDARD
END:VTIMEZONE
BEGIN:VEVENT
DTSTART;VALUE=DATE:20260621
DTEND;VALUE=DATE:20260622
DTSTAMP:20260420T025556
CREATED:20220618T152745Z
LAST-MODIFIED:20230228T212729Z
UID:1330-1782000000-1782086399@resurrectionists.ca
SUMMARY:St. Aloysius Gonzaga
DESCRIPTION:FOCAL POINT: \n“In those cases\, in which no consensus can be reached\, the superior decides and commands what is to be done\, after having considered the matter prayerfully and carefully before God.” (Con. 50) \n  \nBirthdays:\nFr. Nelson da Silva Santos\, 1973\, Brazil\nNovice Dawid Artur Kubic\, 1997\, Poland \n  \n\nFor the Church\, the Holy Father and our local ordinary.\nFor our living and deceased benefactors.\nFor the Society of Jesus as they celebrate St. Aloysius Gonzaga.\n\n  \nFURTHER REFLECTION: \n“We are all aware of the treasure which the gift of the consecrated life in the variety of its charisms and institutions represents for the ecclesial community.” (Vita Consecrata\, 2)
URL:https://resurrectionists.ca/prayer-calendar/st-aloysius-gonzaga/
END:VEVENT
END:VCALENDAR