BEGIN:VCALENDAR
VERSION:2.0
PRODID:-//Congregation of the Resurrection - ECPv6.2.6.1//NONSGML v1.0//EN
CALSCALE:GREGORIAN
METHOD:PUBLISH
X-ORIGINAL-URL:https://resurrectionists.ca
X-WR-CALDESC:Events for Congregation of the Resurrection
REFRESH-INTERVAL;VALUE=DURATION:PT1H
X-Robots-Tag:noindex
X-PUBLISHED-TTL:PT1H
BEGIN:VTIMEZONE
TZID:America/Halifax
BEGIN:DAYLIGHT
TZOFFSETFROM:-0400
TZOFFSETTO:-0300
TZNAME:ADT
DTSTART:20260308T060000
END:DAYLIGHT
BEGIN:STANDARD
TZOFFSETFROM:-0300
TZOFFSETTO:-0400
TZNAME:AST
DTSTART:20261101T050000
END:STANDARD
END:VTIMEZONE
BEGIN:VEVENT
DTSTART;VALUE=DATE:20260626
DTEND;VALUE=DATE:20260627
DTSTAMP:20260420T025822
CREATED:20220625T224332Z
LAST-MODIFIED:20230228T215831Z
UID:1351-1782432000-1782518399@resurrectionists.ca
SUMMARY:June 26
DESCRIPTION:FOCAL POINT: \n[Formal obedience] “will be given in writing or be attested by two witnesses. Such commands will be used only rarely\, cautiously and prudently.” (Con. 52) \n  \nDeceased:\nBr. Kazimierz Walinowicz\, 1947\, Krakow \n  \n\nFor our deceased members and benefactors\, for the one who will die first among us.\nFor the grace to always strive towards renewal of body\, mind and spirit.\nFor the safety of all who travel during these summer days.\n\n  \nFURTHER REFLECTION: \n“Contemplation of the glory of the Lord Jesus in the icon of the Transfiguration reveals to consecrated persons first of all the Father\, the Creator and Giver of every good thing\, who draws his creatures to himself with a special love and for a special mission.” (Vita Consecrata\, 17)
URL:https://resurrectionists.ca/prayer-calendar/june-26/
END:VEVENT
END:VCALENDAR