BEGIN:VCALENDAR
VERSION:2.0
PRODID:-//Congregation of the Resurrection - ECPv6.2.6.1//NONSGML v1.0//EN
CALSCALE:GREGORIAN
METHOD:PUBLISH
X-ORIGINAL-URL:https://resurrectionists.ca
X-WR-CALDESC:Events for Congregation of the Resurrection
REFRESH-INTERVAL;VALUE=DURATION:PT1H
X-Robots-Tag:noindex
X-PUBLISHED-TTL:PT1H
BEGIN:VTIMEZONE
TZID:America/Toronto
BEGIN:DAYLIGHT
TZOFFSETFROM:-0500
TZOFFSETTO:-0400
TZNAME:EDT
DTSTART:20260308T070000
END:DAYLIGHT
BEGIN:STANDARD
TZOFFSETFROM:-0400
TZOFFSETTO:-0500
TZNAME:EST
DTSTART:20261101T060000
END:STANDARD
END:VTIMEZONE
BEGIN:VEVENT
DTSTART;VALUE=DATE:20260701
DTEND;VALUE=DATE:20260702
DTSTAMP:20260420T032006
CREATED:20220702T034005Z
LAST-MODIFIED:20250729T194357Z
UID:2104-1782864000-1782950399@resurrectionists.ca
SUMMARY:July 1 - Canada Day
DESCRIPTION:FOCAL POINT: \n“Mindful that our own personal sanctification and effective apostolic work flow from a vital union with Him\, we too strive to become men of prayer.” (Con. 54) \n  \nDeceased:\nFr. Pawel Tudyka\, 1921\, Gdansk\, Poland\nFr. Stanislaw Skierawski\, 1945\, Gniew\, Poland \nBirthday:\nCl. Tiago do Santos Teixeira\, 2002\, Brazil \n  \n\nFor the Church\, our Holy Father and the local ordinary.\nFor the country of Canada\, may it be a country of inclusion\, welcoming all who journey to our land.\nFor our parents\, both living and deceased.\n\n  \nFURTHER REFLECTION: \n“The deepest meaning of the evangelical counsels is revealed when they are viewed in relation to the Holy Trinity\, the source of holiness.” (Vita Consecrata\, 21)
URL:https://resurrectionists.ca/prayer-calendar/july-1-canada-day/
END:VEVENT
END:VCALENDAR