BEGIN:VCALENDAR
VERSION:2.0
PRODID:-//Congregation of the Resurrection - ECPv6.2.6.1//NONSGML v1.0//EN
CALSCALE:GREGORIAN
METHOD:PUBLISH
X-ORIGINAL-URL:https://resurrectionists.ca
X-WR-CALDESC:Events for Congregation of the Resurrection
REFRESH-INTERVAL;VALUE=DURATION:PT1H
X-Robots-Tag:noindex
X-PUBLISHED-TTL:PT1H
BEGIN:VTIMEZONE
TZID:America/Toronto
BEGIN:DAYLIGHT
TZOFFSETFROM:-0500
TZOFFSETTO:-0400
TZNAME:EDT
DTSTART:20260308T070000
END:DAYLIGHT
BEGIN:STANDARD
TZOFFSETFROM:-0400
TZOFFSETTO:-0500
TZNAME:EST
DTSTART:20261101T060000
END:STANDARD
END:VTIMEZONE
BEGIN:VEVENT
DTSTART;VALUE=DATE:20260702
DTEND;VALUE=DATE:20260703
DTSTAMP:20260420T025731
CREATED:20220702T034237Z
LAST-MODIFIED:20250729T194547Z
UID:2107-1782950400-1783036799@resurrectionists.ca
SUMMARY:Anniversary of Death of Bogdan Janski
DESCRIPTION:FOCAL POINT: \n“From the very beginning we were convinced that\, if our own personal conversion and that of other brothers who were on the way to closer union with God were to be effective\, it was proper and necessary that we withdraw from the social circles in which we lived and gather together to form a community. This was to be a community in which each member would support the others\, strengthening them in spirit through common exercises – a community in which members would be led to the way of truth\, recognizing their serious obligations to themselves\, to God and to people. Thus\, we decided to begin a common life\, and founded a small house at the beginning of 1836.” (Letter from Bogdan Janski to V. Wieloglowski) \n  \nDeceased:\nBOGDAN JANSKI\, 1840\, Rome\, Italy\nFr. Francis Jaglowicz\, 1961\, Louisville\, USA\nFr. Stanley Ziemba\, 1964\, Chicago\, USA \n  \nBirthdays:\nFr. Zdzislaw Korcz\, 1935\, Poland\nFr. Marek Strzyzynski\, 1961\, Poland\nFr. Damian Stachowiak\, 1981\, Poland\nCl. Mario Rwegoshora Rutajula\, 1991\, Tanzania \n  \n\nFor our Congregation\, our superiors\, and vocations to our Congregation.\nFor the Sisters of the Resurrection.\nFor all deceased members of the Congregation.\n\n  \nFURTHER REFLECTION: \n“The consecrated life truly constitutes a living memorial of Jesus’ way of living and acting as the Incarnate Word in relation to the Father and in relation to the brethren.” (Vita Consecrata\, 23)
URL:https://resurrectionists.ca/prayer-calendar/july-2/
END:VEVENT
END:VCALENDAR