BEGIN:VCALENDAR
VERSION:2.0
PRODID:-//Congregation of the Resurrection - ECPv6.2.6.1//NONSGML v1.0//EN
CALSCALE:GREGORIAN
METHOD:PUBLISH
X-WR-CALNAME:Congregation of the Resurrection
X-ORIGINAL-URL:https://resurrectionists.ca
X-WR-CALDESC:Events for Congregation of the Resurrection
REFRESH-INTERVAL;VALUE=DURATION:PT1H
X-Robots-Tag:noindex
X-PUBLISHED-TTL:PT1H
BEGIN:VTIMEZONE
TZID:America/Toronto
BEGIN:DAYLIGHT
TZOFFSETFROM:-0500
TZOFFSETTO:-0400
TZNAME:EDT
DTSTART:20260308T070000
END:DAYLIGHT
BEGIN:STANDARD
TZOFFSETFROM:-0400
TZOFFSETTO:-0500
TZNAME:EST
DTSTART:20261101T060000
END:STANDARD
END:VTIMEZONE
BEGIN:VEVENT
DTSTART;VALUE=DATE:20260706
DTEND;VALUE=DATE:20260707
DTSTAMP:20260420T043316
CREATED:20220702T034750Z
LAST-MODIFIED:20250729T202457Z
UID:2118-1783296000-1783382399@resurrectionists.ca
SUMMARY:Fourteenth Sunday in Ordinary Time
DESCRIPTION:FOCAL POINT: \n“The Eucharist is the central act of our daily life because it is here\, through our participation in Christ’s Paschal Mystery by dying and rising with Him\, that we encounter the deepest meaning of the Resurrection.” (Con. 57) \n  \nDeceased:\nBr. Franciszek Staniewski\, 1885\, Rome\, Italy\nFr. Joseph Wise\, 1999\, Des Plaines\, USA\nFr. John Stephen\, 2011\, Des Plaines\, USA\nFr. Tadeusz Kaszuba\, 2021\, Krakow\, Poland\nFr. Kazimierz Trawicki\, 2024\, Melbourne\, Australia \n  \nBirthday:\nFr. Ryszard Burda\, 1957\, Poland \n  \n\nFor the conversion of sinners and for all in affliction\, temptation and agony.\nFor those seeking employment.\nIn thanksgiving for the gift of Eucharist and its power to transform us and society.\n\n  \nFURTHER REFLECTION: \n“By virtue of their rebirth in Christ\, all the faithful share a common dignity; all are called to holiness; all cooperate in the building up of the one Body of Christ\, each in accordance with the proper vocation and gift which he or she has received from the Spirit.” (Vita Consecrata\, 31)
URL:https://resurrectionists.ca/prayer-calendar/july-6/
END:VEVENT
END:VCALENDAR