BEGIN:VCALENDAR
VERSION:2.0
PRODID:-//Congregation of the Resurrection - ECPv6.2.6.1//NONSGML v1.0//EN
CALSCALE:GREGORIAN
METHOD:PUBLISH
X-ORIGINAL-URL:https://resurrectionists.ca
X-WR-CALDESC:Events for Congregation of the Resurrection
REFRESH-INTERVAL;VALUE=DURATION:PT1H
X-Robots-Tag:noindex
X-PUBLISHED-TTL:PT1H
BEGIN:VTIMEZONE
TZID:America/Toronto
BEGIN:DAYLIGHT
TZOFFSETFROM:-0500
TZOFFSETTO:-0400
TZNAME:EDT
DTSTART:20260308T070000
END:DAYLIGHT
BEGIN:STANDARD
TZOFFSETFROM:-0400
TZOFFSETTO:-0500
TZNAME:EST
DTSTART:20261101T060000
END:STANDARD
END:VTIMEZONE
BEGIN:VEVENT
DTSTART;VALUE=DATE:20260707
DTEND;VALUE=DATE:20260708
DTSTAMP:20260420T043456
CREATED:20220702T035153Z
LAST-MODIFIED:20250729T202555Z
UID:2122-1783382400-1783468799@resurrectionists.ca
SUMMARY:July 7
DESCRIPTION:FOCAL POINT: \n“In the Eucharist\, we also experience reconciliation with our brothers and sisters and unity of heart and soul as we\, together with Christ\, offer ourselves to the Father.” (Con. 57) \n  \nDeceased:\nFr. Leonard Long\, 1966\, Waukegan\, USA\nFr. Hubert Gehl\, 1985\, Kitchener\, Canada \n  \n\nFor our deceased members and benefactors and for all the faithful departed.\nFor vocations to the Congregation of the Resurrection.\nFor the one who will die first among us.\n\n  \nFURTHER REFLECTION: \n“A particular duty of the consecrated life is to remind the baptized of the fundamental values of the Gospel\, by bearing splendid and striking testimony that the world cannot be transfigured and offered to God without the spirit of the Beatitudes.” (Vita Consecrata\, 33)
URL:https://resurrectionists.ca/prayer-calendar/july-7/
END:VEVENT
END:VCALENDAR