BEGIN:VCALENDAR
VERSION:2.0
PRODID:-//Congregation of the Resurrection - ECPv6.2.6.1//NONSGML v1.0//EN
CALSCALE:GREGORIAN
METHOD:PUBLISH
X-WR-CALNAME:Congregation of the Resurrection
X-ORIGINAL-URL:https://resurrectionists.ca
X-WR-CALDESC:Events for Congregation of the Resurrection
REFRESH-INTERVAL;VALUE=DURATION:PT1H
X-Robots-Tag:noindex
X-PUBLISHED-TTL:PT1H
BEGIN:VTIMEZONE
TZID:America/Toronto
BEGIN:DAYLIGHT
TZOFFSETFROM:-0500
TZOFFSETTO:-0400
TZNAME:EDT
DTSTART:20260308T070000
END:DAYLIGHT
BEGIN:STANDARD
TZOFFSETFROM:-0400
TZOFFSETTO:-0500
TZNAME:EST
DTSTART:20261101T060000
END:STANDARD
END:VTIMEZONE
BEGIN:VEVENT
DTSTART;VALUE=DATE:20260708
DTEND;VALUE=DATE:20260709
DTSTAMP:20260420T043256
CREATED:20220711T224045Z
LAST-MODIFIED:20230301T193020Z
UID:2467-1783468800-1783555199@resurrectionists.ca
SUMMARY:July 8
DESCRIPTION:FOCAL POINT: \n“It is in the Eucharist that Christ\, our spiritual food\, enables us to strengthen our baptismal and religious commitments. A natural outcome of our participation in the Eucharist is our devotion to Christ in the Blessed Sacrament.” (Con. 57) \n  \nDeceased:\nFr. Wincenty Wenglicki\, 1956\, Sulislawice\, Poland\nFr. Leon Chocieszynski\, 1970\, Vienna\, Austria\nFr. Patrick Rylko\, 1983\, Chicago\, USA\nFr. Franciszek Dajczak\, 1995\, Radzillow\, Poland\nFr. Stanislaw Warchalowski\, 2005\, Krakow\, Poland \n  \n\nFor increased fidelity to our charism and our vows\, and for the spirit of the resurrection.\nFor those who were at one time members of the Congregation of the Resurrection.\nFor those who we educated in our schools and parishes.\n\n  \nFURTHER REFLECTION: \n“Consecrated persons themselves are helped by the witness of the other vocations to live fully and completely their union with the mystery of Christ and the Church in its many dimensions.” (Vita Consecrata\, 33)
URL:https://resurrectionists.ca/prayer-calendar/july-8/
END:VEVENT
END:VCALENDAR