BEGIN:VCALENDAR
VERSION:2.0
PRODID:-//Congregation of the Resurrection - ECPv6.2.6.1//NONSGML v1.0//EN
CALSCALE:GREGORIAN
METHOD:PUBLISH
X-ORIGINAL-URL:https://resurrectionists.ca
X-WR-CALDESC:Events for Congregation of the Resurrection
REFRESH-INTERVAL;VALUE=DURATION:PT1H
X-Robots-Tag:noindex
X-PUBLISHED-TTL:PT1H
BEGIN:VTIMEZONE
TZID:America/Toronto
BEGIN:DAYLIGHT
TZOFFSETFROM:-0500
TZOFFSETTO:-0400
TZNAME:EDT
DTSTART:20260308T070000
END:DAYLIGHT
BEGIN:STANDARD
TZOFFSETFROM:-0400
TZOFFSETTO:-0500
TZNAME:EST
DTSTART:20261101T060000
END:STANDARD
END:VTIMEZONE
BEGIN:VEVENT
DTSTART;VALUE=DATE:20260714
DTEND;VALUE=DATE:20260715
DTSTAMP:20260420T043606
CREATED:20220711T224326Z
LAST-MODIFIED:20250729T203131Z
UID:2481-1783987200-1784073599@resurrectionists.ca
SUMMARY:St. Camillus de Lellis
DESCRIPTION:FOCAL POINT: \n“It is through a reflective and prayerful reading of the Sacred Scriptures that the Holy Spirit inspires us to grow in our knowledge and appreciation of Christ and to strive earnestly to become more like Him.” (Con. 62) \n  \nDeceased:\nFr. Lawrence Kuntz\, 1952\, Kitchener\, Canada \n  \nBirthday:\nFr. Luciano Piotrowski\, 1959\, Poland \n  \n\nFor the grace to imitate the zeal of our Founders.\nFor the Camillian Fathers as they celebrate their founder today\, Saint Camillus de Lellis.\nFor a return to the faith by those who have wandered.\n\n  \nFURTHER REFLECTION: \n“In the consecrated life the role of the superiors\, including local superiors\, has always been of great importance for the spiritual life and for mission.” (Vita Consecrata\, 43)
URL:https://resurrectionists.ca/prayer-calendar/july-14/
END:VEVENT
END:VCALENDAR