BEGIN:VCALENDAR
VERSION:2.0
PRODID:-//Congregation of the Resurrection - ECPv6.2.6.1//NONSGML v1.0//EN
CALSCALE:GREGORIAN
METHOD:PUBLISH
X-WR-CALNAME:Congregation of the Resurrection
X-ORIGINAL-URL:https://resurrectionists.ca
X-WR-CALDESC:Events for Congregation of the Resurrection
REFRESH-INTERVAL;VALUE=DURATION:PT1H
X-Robots-Tag:noindex
X-PUBLISHED-TTL:PT1H
BEGIN:VTIMEZONE
TZID:America/Toronto
BEGIN:DAYLIGHT
TZOFFSETFROM:-0500
TZOFFSETTO:-0400
TZNAME:EDT
DTSTART:20260308T070000
END:DAYLIGHT
BEGIN:STANDARD
TZOFFSETFROM:-0400
TZOFFSETTO:-0500
TZNAME:EST
DTSTART:20261101T060000
END:STANDARD
END:VTIMEZONE
BEGIN:VEVENT
DTSTART;VALUE=DATE:20260729
DTEND;VALUE=DATE:20260730
DTSTAMP:20260420T043256
CREATED:20220711T234319Z
LAST-MODIFIED:20240726T140339Z
UID:2517-1785283200-1785369599@resurrectionists.ca
SUMMARY:Sts. Martha\, Mary and Lazarus
DESCRIPTION:FOCAL POINT: \n“The Visitation should take place in an atmosphere of fraternal love and confidence\, and lead to spiritual and apostolic growth.” (Con. 102) \n  \nDeceased:\nFr. Jerome Cwiak\, 1961\, San Luis Obispo\, USA\nFr. Jerzy Smolinski\, 2013\, Vienna\, Austria \n  \n\nFor our Congregation\, our superiors and for vocations to our Congregation.\nThat our monthly days of recollection may be a fruitful source of motivation and renewal.\nFor all those we count as friends\, who like the friends of Jesus\, (Martha\, Mary and Lazarus) help us to be our true selves.\n\n  \nFURTHER REFLECTION: \n“Both the Apostles and the Resurrectionists need to support and nourish each other by sharing and living our faith\, as we will attempt to bring about the resurrection of society\, starting with ourselves.” (Apostles of the Resurrection Handbook\, 4)
URL:https://resurrectionists.ca/prayer-calendar/july-29/
END:VEVENT
END:VCALENDAR