BEGIN:VCALENDAR
VERSION:2.0
PRODID:-//Congregation of the Resurrection - ECPv6.2.6.1//NONSGML v1.0//EN
CALSCALE:GREGORIAN
METHOD:PUBLISH
X-ORIGINAL-URL:https://resurrectionists.ca
X-WR-CALDESC:Events for Congregation of the Resurrection
REFRESH-INTERVAL;VALUE=DURATION:PT1H
X-Robots-Tag:noindex
X-PUBLISHED-TTL:PT1H
BEGIN:VTIMEZONE
TZID:America/Toronto
BEGIN:DAYLIGHT
TZOFFSETFROM:-0500
TZOFFSETTO:-0400
TZNAME:EDT
DTSTART:20280312T070000
END:DAYLIGHT
BEGIN:STANDARD
TZOFFSETFROM:-0400
TZOFFSETTO:-0500
TZNAME:EST
DTSTART:20281105T060000
END:STANDARD
END:VTIMEZONE
BEGIN:VEVENT
DTSTART;VALUE=DATE:20280330
DTEND;VALUE=DATE:20280331
DTSTAMP:20260423T073635
CREATED:20230105T182910Z
LAST-MODIFIED:20240208T150538Z
UID:6023-1837987200-1838073599@resurrectionists.ca
SUMMARY:Holy Saturday
DESCRIPTION:FOCAL POINT: \n“We are stewards of all that God has given us\, and therefore we give of ourselves generously in service to the people of God.” (Con. 22) \n  \nOrdination:\nFr. David Mowat\, 1963\, Canada \n  \n\nFor the Church and our Holy Father.\nFor those seeking employment.\nFor peace in the world.\n\n  \nFURTHER REFLECTION: \n“For most members apostolic work is a very rewarding experience\, a source of affirmation and joy\, an activity to which they fervently give of themselves.” (Resurrectionist Formation\, 179) \n 
URL:https://resurrectionists.ca/prayer-calendar/march-30/
END:VEVENT
BEGIN:VEVENT
DTSTART;VALUE=DATE:20290303
DTEND;VALUE=DATE:20280304
DTSTAMP:20260423T073635
CREATED:20230104T205639Z
LAST-MODIFIED:20240208T144521Z
UID:5919-1867190400-1835740799@resurrectionists.ca
SUMMARY:Third Sunday of Lent
DESCRIPTION:FOCAL POINT: \n“This dedication [to living the vows] entails an act of faith whereby we respond to God’s call to give ourselves completely – with all our talents\, abilities and powers – to Him\, to the Church\, and the Congregation.” (Con. 13) \n  \nDeceased:\nFr. John Grabowski\, 1973\, Woodstock\, USA \n  \n\nThat we may be more aware of each other’s giftedness and of our own responsibility to develop our gifts for the good of our community.\nFor all families and especially for those families struggling to survive.\nMay the graces and blessings of this Season of Lent inspire us to ever-greater prayer\, fasting and alms-giving.\n\n  \nFURTHER REFLECTION: \n“Others are a gift not to be taken for granted or looked down upon\, but a gift to be received with respect\, because in our brothers\, especially if they are weak and frail\, Christ comes to meet us.” (Address by Pope Francis to General Chapter 2017\, 2)
URL:https://resurrectionists.ca/prayer-calendar/march-3/
END:VEVENT
END:VCALENDAR