BEGIN:VCALENDAR
VERSION:2.0
PRODID:-//Congregation of the Resurrection - ECPv6.2.6.1//NONSGML v1.0//EN
CALSCALE:GREGORIAN
METHOD:PUBLISH
X-ORIGINAL-URL:https://resurrectionists.ca
X-WR-CALDESC:Events for Congregation of the Resurrection
REFRESH-INTERVAL;VALUE=DURATION:PT1H
X-Robots-Tag:noindex
X-PUBLISHED-TTL:PT1H
BEGIN:VTIMEZONE
TZID:America/Toronto
BEGIN:DAYLIGHT
TZOFFSETFROM:-0500
TZOFFSETTO:-0400
TZNAME:EDT
DTSTART:20250309T070000
END:DAYLIGHT
BEGIN:STANDARD
TZOFFSETFROM:-0400
TZOFFSETTO:-0500
TZNAME:EST
DTSTART:20251102T060000
END:STANDARD
END:VTIMEZONE
BEGIN:VEVENT
DTSTART;VALUE=DATE:20250721
DTEND;VALUE=DATE:20250722
DTSTAMP:20260419T173622
CREATED:20250721T203809Z
LAST-MODIFIED:20250729T204040Z
UID:21112-1753056000-1753142399@resurrectionists.ca
SUMMARY:St. Lawrence of Brindisi
DESCRIPTION:FOCAL POINT:\n“Besides daily participation in morning prayers and evening prayers\, each religious will spend at least one hour each day in private prayer and reflection.” (Con. 70) \n  \nDeceased:\nFr. Chester Brzegowy\, 1957\, Chicago\, USA\nFr. Joseph Baniewicz\, 1968\, Chicago\, USA\nFr. Jan Dybowski\, 2012\, Szczecinek\, Poland \n  \nBirthday:\nFr. Evandro Miranda Rosa\, 1975\, Brazil \n  \n\nFor growth in our trust\, acceptance and affirmation of one another within Community.\nFor our country\, and for civil rulers on the local and national level.\nFor those who\, by their example and teaching\, uphold the teachings of the church\, and today we remember the example of St. Lawrence of Brindisi\, Doctor of the Church.\n\n  \nFURTHER REFLECTION:  \n“Consecrated men and women are sent forth to proclaim\, by the witness of their lives\, the value of Christian fraternity and the transforming power of the Good News.” (Vita Consecrata\, 51)
URL:https://resurrectionists.ca/prayer-calendar/july-21-2/
END:VEVENT
END:VCALENDAR